BEGIN:VCALENDAR
VERSION:2.0
PRODID:http://www.kufer.de/kuferweb / DE
METHOD:PUBLISH
CALSCALE:GREGORIAN
X-WR-TIMEZONE:Europe/Berlin
BEGIN:VTIMEZONE
TZID:Europe/Berlin
X-LIC-LOCATION:Europe/Berlin
BEGIN:DAYLIGHT
TZOFFSETFROM:+0100
TZOFFSETTO:+0200
TZNAME:CEST
DTSTART;TZID=Europe/Berlin:19700329T020000
RRULE:FREQ=YEARLY;INTERVAL=1;BYDAY=-1SU;BYMONTH=3
END:DAYLIGHT
BEGIN:STANDARD
TZOFFSETFROM:+0200
TZOFFSETTO:+0100
TZNAME:CET
DTSTART;TZID=Europe/Berlin:19701025T030000
RRULE:FREQ=YEARLY;INTERVAL=1;BYDAY=-1SU;BYMONTH=10
END:STANDARD
END:VTIMEZONE
BEGIN:VEVENT
DTSTAMP:20260419T142415
DTSTART;TZID=Europe/Berlin:20250923T193000
DTEND;TZID=Europe/Berlin:20250923T210000
UID:W25 505-20250923T193000@FBAASPERG
SUMMARY:Orientalischer Tanz Anfängerkurs (W25 505) 
LOCATION:extern, , 
END:VEVENT
BEGIN:VEVENT
DTSTAMP:20260419T142415
DTSTART;TZID=Europe/Berlin:20250930T193000
DTEND;TZID=Europe/Berlin:20250930T210000
UID:W25 505-20250930T193000@FBAASPERG
SUMMARY:Orientalischer Tanz Anfängerkurs (W25 505) 
LOCATION:extern, , 
END:VEVENT
BEGIN:VEVENT
DTSTAMP:20260419T142415
DTSTART;TZID=Europe/Berlin:20251007T193000
DTEND;TZID=Europe/Berlin:20251007T210000
UID:W25 505-20251007T193000@FBAASPERG
SUMMARY:Orientalischer Tanz Anfängerkurs (W25 505) 
LOCATION:extern, , 
END:VEVENT
BEGIN:VEVENT
DTSTAMP:20260419T142415
DTSTART;TZID=Europe/Berlin:20251014T193000
DTEND;TZID=Europe/Berlin:20251014T210000
UID:W25 505-20251014T193000@FBAASPERG
SUMMARY:Orientalischer Tanz Anfängerkurs (W25 505) 
LOCATION:extern, , 
END:VEVENT
BEGIN:VEVENT
DTSTAMP:20260419T142415
DTSTART;TZID=Europe/Berlin:20251021T193000
DTEND;TZID=Europe/Berlin:20251021T210000
UID:W25 505-20251021T193000@FBAASPERG
SUMMARY:Orientalischer Tanz Anfängerkurs (W25 505) 
LOCATION:extern, , 
END:VEVENT
END:VCALENDAR